BEGIN:VCALENDAR
VERSION:2.0
PRODID:-//Russian Mule Brewery - ECPv6.15.20//NONSGML v1.0//EN
CALSCALE:GREGORIAN
METHOD:PUBLISH
X-WR-CALNAME:Russian Mule Brewery
X-ORIGINAL-URL:https://russianmulebrewery.com
X-WR-CALDESC:Events for Russian Mule Brewery
REFRESH-INTERVAL;VALUE=DURATION:PT1H
X-Robots-Tag:noindex
X-PUBLISHED-TTL:PT1H
BEGIN:VTIMEZONE
TZID:America/New_York
BEGIN:DAYLIGHT
TZOFFSETFROM:-0500
TZOFFSETTO:-0400
TZNAME:EDT
DTSTART:20230312T070000
END:DAYLIGHT
BEGIN:STANDARD
TZOFFSETFROM:-0400
TZOFFSETTO:-0500
TZNAME:EST
DTSTART:20231105T060000
END:STANDARD
BEGIN:DAYLIGHT
TZOFFSETFROM:-0500
TZOFFSETTO:-0400
TZNAME:EDT
DTSTART:20240310T070000
END:DAYLIGHT
BEGIN:STANDARD
TZOFFSETFROM:-0400
TZOFFSETTO:-0500
TZNAME:EST
DTSTART:20241103T060000
END:STANDARD
BEGIN:DAYLIGHT
TZOFFSETFROM:-0500
TZOFFSETTO:-0400
TZNAME:EDT
DTSTART:20250309T070000
END:DAYLIGHT
BEGIN:STANDARD
TZOFFSETFROM:-0400
TZOFFSETTO:-0500
TZNAME:EST
DTSTART:20251102T060000
END:STANDARD
END:VTIMEZONE
BEGIN:VEVENT
DTSTART;TZID=America/New_York:20240316T160000
DTEND;TZID=America/New_York:20240316T190000
DTSTAMP:20260425T213314
CREATED:20240315T023855Z
LAST-MODIFIED:20240315T023855Z
UID:409-1710604800-1710615600@russianmulebrewery.com
SUMMARY:Corned Beef Dinner
DESCRIPTION:Join us Saturday\, March 16th for a traditional corned beef dinner at the Russian Mule Brewery.  Lets eat\, drink and be Irish!
URL:https://russianmulebrewery.com/event/corned-beef-dinner/
ATTACH;FMTTYPE=image/jpeg:https://russianmulebrewery.com/wp-content/uploads/sites/2/2024/03/st-patricks-day.jpg
END:VEVENT
BEGIN:VEVENT
DTSTART;VALUE=DATE:20240331
DTEND;VALUE=DATE:20240401
DTSTAMP:20260425T213314
CREATED:20240327T224318Z
LAST-MODIFIED:20240327T224318Z
UID:413-1711843200-1711929599@russianmulebrewery.com
SUMMARY:Closed for Easter
DESCRIPTION:
URL:https://russianmulebrewery.com/event/closed-for-easter/
ATTACH;FMTTYPE=image/jpeg:https://russianmulebrewery.com/wp-content/uploads/sites/2/2024/03/Easter24.jpg
END:VEVENT
END:VCALENDAR