BEGIN:VCALENDAR
VERSION:2.0
PRODID:-//Russian Mule Brewery - ECPv6.15.20//NONSGML v1.0//EN
CALSCALE:GREGORIAN
METHOD:PUBLISH
X-WR-CALNAME:Russian Mule Brewery
X-ORIGINAL-URL:https://russianmulebrewery.com
X-WR-CALDESC:Events for Russian Mule Brewery
REFRESH-INTERVAL;VALUE=DURATION:PT1H
X-Robots-Tag:noindex
X-PUBLISHED-TTL:PT1H
BEGIN:VTIMEZONE
TZID:America/New_York
BEGIN:DAYLIGHT
TZOFFSETFROM:-0500
TZOFFSETTO:-0400
TZNAME:EDT
DTSTART:20230312T070000
END:DAYLIGHT
BEGIN:STANDARD
TZOFFSETFROM:-0400
TZOFFSETTO:-0500
TZNAME:EST
DTSTART:20231105T060000
END:STANDARD
BEGIN:DAYLIGHT
TZOFFSETFROM:-0500
TZOFFSETTO:-0400
TZNAME:EDT
DTSTART:20240310T070000
END:DAYLIGHT
BEGIN:STANDARD
TZOFFSETFROM:-0400
TZOFFSETTO:-0500
TZNAME:EST
DTSTART:20241103T060000
END:STANDARD
BEGIN:DAYLIGHT
TZOFFSETFROM:-0500
TZOFFSETTO:-0400
TZNAME:EDT
DTSTART:20250309T070000
END:DAYLIGHT
BEGIN:STANDARD
TZOFFSETFROM:-0400
TZOFFSETTO:-0500
TZNAME:EST
DTSTART:20251102T060000
END:STANDARD
END:VTIMEZONE
BEGIN:VEVENT
DTSTART;TZID=America/New_York:20240727T170000
DTEND;TZID=America/New_York:20240727T200000
DTSTAMP:20260425T193749
CREATED:20240705T235315Z
LAST-MODIFIED:20240705T235315Z
UID:441-1722099600-1722110400@russianmulebrewery.com
SUMMARY:Live Music:  Ailise
DESCRIPTION:Ali Hayes who goes by the stage name “Ailíse” is a multi-instrumentalist and vocalist from County Clare on the west coast of Ireland. She began her musical journey at the age of 7 and since then she has performed at various venues and concert halls around Ireland as well as having obtained a Bachelors of Performing Arts in Voice from the Irish World Academy of Music & Dance at the University of Limerick. She made the journey across the pond to the US in 2022 and has played at many venues across South Florida\, she also had a weekly slot at an Irish pub in Palm Beach Gardens. Ailíse is very proud of her Irish heritage and incorporates traditional technique\, instruments and the Irish language into her performances. She takes influence from some of the best Irish artists such as Luke Kelly\, Dolores O’ Riordan and Cara Dillon\, any performance from her will take you back in time and evoke true emotion from the heart.
URL:https://russianmulebrewery.com/event/live-music-ailise/
ATTACH;FMTTYPE=image/jpeg:https://russianmulebrewery.com/wp-content/uploads/sites/2/2024/07/IMG_4992.jpeg
END:VEVENT
END:VCALENDAR