BEGIN:VCALENDAR
VERSION:2.0
PRODID:-//Russian Mule Brewery - ECPv6.15.20//NONSGML v1.0//EN
CALSCALE:GREGORIAN
METHOD:PUBLISH
X-WR-CALNAME:Russian Mule Brewery
X-ORIGINAL-URL:https://russianmulebrewery.com
X-WR-CALDESC:Events for Russian Mule Brewery
REFRESH-INTERVAL;VALUE=DURATION:PT1H
X-Robots-Tag:noindex
X-PUBLISHED-TTL:PT1H
BEGIN:VTIMEZONE
TZID:America/New_York
BEGIN:DAYLIGHT
TZOFFSETFROM:-0500
TZOFFSETTO:-0400
TZNAME:EDT
DTSTART:20230312T070000
END:DAYLIGHT
BEGIN:STANDARD
TZOFFSETFROM:-0400
TZOFFSETTO:-0500
TZNAME:EST
DTSTART:20231105T060000
END:STANDARD
BEGIN:DAYLIGHT
TZOFFSETFROM:-0500
TZOFFSETTO:-0400
TZNAME:EDT
DTSTART:20240310T070000
END:DAYLIGHT
BEGIN:STANDARD
TZOFFSETFROM:-0400
TZOFFSETTO:-0500
TZNAME:EST
DTSTART:20241103T060000
END:STANDARD
BEGIN:DAYLIGHT
TZOFFSETFROM:-0500
TZOFFSETTO:-0400
TZNAME:EDT
DTSTART:20250309T070000
END:DAYLIGHT
BEGIN:STANDARD
TZOFFSETFROM:-0400
TZOFFSETTO:-0500
TZNAME:EST
DTSTART:20251102T060000
END:STANDARD
END:VTIMEZONE
BEGIN:VEVENT
DTSTART;TZID=America/New_York:20241207T160000
DTEND;TZID=America/New_York:20241207T190000
DTSTAMP:20260424T191625
CREATED:20240711T195025Z
LAST-MODIFIED:20241127T040253Z
UID:444-1733587200-1733598000@russianmulebrewery.com
SUMMARY:Live Music:  Andrew Mercer
DESCRIPTION:Acoustic guitarist and singer \nAndrew plays popular songs in the genres of 90’s alternative\, classic rock and country!
URL:https://russianmulebrewery.com/event/live-music-andrew-mercer/
END:VEVENT
END:VCALENDAR